BEGIN:VCALENDAR
VERSION:2.0
PRODID:-//TC Gmunden 1903 - ECPv6.15.13//NONSGML v1.0//EN
CALSCALE:GREGORIAN
METHOD:PUBLISH
X-WR-CALNAME:TC Gmunden 1903
X-ORIGINAL-URL:https://www.tcgmunden1903.at
X-WR-CALDESC:Veranstaltungen für TC Gmunden 1903
REFRESH-INTERVAL;VALUE=DURATION:PT1H
X-Robots-Tag:noindex
X-PUBLISHED-TTL:PT1H
BEGIN:VTIMEZONE
TZID:Europe/Vienna
BEGIN:DAYLIGHT
TZOFFSETFROM:+0100
TZOFFSETTO:+0200
TZNAME:CEST
DTSTART:20250330T010000
END:DAYLIGHT
BEGIN:STANDARD
TZOFFSETFROM:+0200
TZOFFSETTO:+0100
TZNAME:CET
DTSTART:20251026T010000
END:STANDARD
BEGIN:DAYLIGHT
TZOFFSETFROM:+0100
TZOFFSETTO:+0200
TZNAME:CEST
DTSTART:20260329T010000
END:DAYLIGHT
BEGIN:STANDARD
TZOFFSETFROM:+0200
TZOFFSETTO:+0100
TZNAME:CET
DTSTART:20261025T010000
END:STANDARD
BEGIN:DAYLIGHT
TZOFFSETFROM:+0100
TZOFFSETTO:+0200
TZNAME:CEST
DTSTART:20270328T010000
END:DAYLIGHT
BEGIN:STANDARD
TZOFFSETFROM:+0200
TZOFFSETTO:+0100
TZNAME:CET
DTSTART:20271031T010000
END:STANDARD
END:VTIMEZONE
BEGIN:VEVENT
DTSTART;VALUE=DATE:20260102
DTEND;VALUE=DATE:20260106
DTSTAMP:20260424T102750
CREATED:20251208T153406Z
LAST-MODIFIED:20251208T153717Z
UID:11351-1767312000-1767657599@www.tcgmunden1903.at
SUMMARY:3. Salzkammergut-Tennis-Indoor-Trophy 2026 powered by "BASE-IT"
DESCRIPTION:ITN Turnier
URL:https://www.tcgmunden1903.at/event/3-salzkammergut-tennis-indoor-trophy-2026-powered-by-base-it/
LOCATION:UTC Gmunden\, Fliegerschulweg 46\, Gmunden\, Oberösterreich\, 4810\, Austria
ORGANIZER;CN="UTC Gmunden":MAILTO:office@utcg.at
END:VEVENT
END:VCALENDAR