BEGIN:VCALENDAR
VERSION:2.0
PRODID:-//TC Gmunden 1903 - ECPv6.15.13//NONSGML v1.0//EN
CALSCALE:GREGORIAN
METHOD:PUBLISH
X-ORIGINAL-URL:https://www.tcgmunden1903.at
X-WR-CALDESC:Veranstaltungen für TC Gmunden 1903
REFRESH-INTERVAL;VALUE=DURATION:PT1H
X-Robots-Tag:noindex
X-PUBLISHED-TTL:PT1H
BEGIN:VTIMEZONE
TZID:Europe/Vienna
BEGIN:DAYLIGHT
TZOFFSETFROM:+0100
TZOFFSETTO:+0200
TZNAME:CEST
DTSTART:20250330T010000
END:DAYLIGHT
BEGIN:STANDARD
TZOFFSETFROM:+0200
TZOFFSETTO:+0100
TZNAME:CET
DTSTART:20251026T010000
END:STANDARD
BEGIN:DAYLIGHT
TZOFFSETFROM:+0100
TZOFFSETTO:+0200
TZNAME:CEST
DTSTART:20260329T010000
END:DAYLIGHT
BEGIN:STANDARD
TZOFFSETFROM:+0200
TZOFFSETTO:+0100
TZNAME:CET
DTSTART:20261025T010000
END:STANDARD
BEGIN:DAYLIGHT
TZOFFSETFROM:+0100
TZOFFSETTO:+0200
TZNAME:CEST
DTSTART:20270328T010000
END:DAYLIGHT
BEGIN:STANDARD
TZOFFSETFROM:+0200
TZOFFSETTO:+0100
TZNAME:CET
DTSTART:20271031T010000
END:STANDARD
END:VTIMEZONE
BEGIN:VEVENT
DTSTART;TZID=Europe/Vienna:20260206T190300
DTEND;TZID=Europe/Vienna:20260207T020000
DTSTAMP:20260420T115147
CREATED:20260113T075807Z
LAST-MODIFIED:20260118T151835Z
UID:11633-1770404580-1770429600@www.tcgmunden1903.at
SUMMARY:Faschingsgschnas
DESCRIPTION:
URL:https://www.tcgmunden1903.at/event/11633/
LOCATION:TC Gmunden1903\, Dr.Christian Feursteinstr. 10\, Gmunden\, Oberösterreich\, 4810\, Austria
CATEGORIES:Fest
ORGANIZER;CN="TC Gmunden 1903":MAILTO:office@tcgmunden1903.at
END:VEVENT
END:VCALENDAR