BEGIN:VCALENDAR
VERSION:2.0
PRODID:-//TC Gmunden 1903 - ECPv6.15.13//NONSGML v1.0//EN
CALSCALE:GREGORIAN
METHOD:PUBLISH
X-WR-CALNAME:TC Gmunden 1903
X-ORIGINAL-URL:https://www.tcgmunden1903.at
X-WR-CALDESC:Veranstaltungen für TC Gmunden 1903
REFRESH-INTERVAL;VALUE=DURATION:PT1H
X-Robots-Tag:noindex
X-PUBLISHED-TTL:PT1H
BEGIN:VTIMEZONE
TZID:Europe/Vienna
BEGIN:DAYLIGHT
TZOFFSETFROM:+0100
TZOFFSETTO:+0200
TZNAME:CEST
DTSTART:20250330T010000
END:DAYLIGHT
BEGIN:STANDARD
TZOFFSETFROM:+0200
TZOFFSETTO:+0100
TZNAME:CET
DTSTART:20251026T010000
END:STANDARD
BEGIN:DAYLIGHT
TZOFFSETFROM:+0100
TZOFFSETTO:+0200
TZNAME:CEST
DTSTART:20260329T010000
END:DAYLIGHT
BEGIN:STANDARD
TZOFFSETFROM:+0200
TZOFFSETTO:+0100
TZNAME:CET
DTSTART:20261025T010000
END:STANDARD
BEGIN:DAYLIGHT
TZOFFSETFROM:+0100
TZOFFSETTO:+0200
TZNAME:CEST
DTSTART:20270328T010000
END:DAYLIGHT
BEGIN:STANDARD
TZOFFSETFROM:+0200
TZOFFSETTO:+0100
TZNAME:CET
DTSTART:20271031T010000
END:STANDARD
END:VTIMEZONE
BEGIN:VEVENT
DTSTART;TZID=Europe/Vienna:20260704T130000
DTEND;TZID=Europe/Vienna:20260704T170000
DTSTAMP:20260420T102152
CREATED:20260324T045701Z
LAST-MODIFIED:20260324T091219Z
UID:11691-1783170000-1783184400@www.tcgmunden1903.at
SUMMARY:Heimspiel Damen 2
DESCRIPTION:Regionalklasse Süd \nTC Gmunden 1903 2 – UTC Gampern 1
URL:https://www.tcgmunden1903.at/event/heimspiel-damen-2-4/
LOCATION:TC Gmunden1903\, Dr.Christian Feursteinstr. 10\, Gmunden\, Oberösterreich\, 4810\, Austria
CATEGORIES:Meisterschaft
ORGANIZER;CN="TC Gmunden 1903":MAILTO:office@tcgmunden1903.at
END:VEVENT
BEGIN:VEVENT
DTSTART;TZID=Europe/Vienna:20260711T110000
DTEND;TZID=Europe/Vienna:20260711T170000
DTSTAMP:20260420T102152
CREATED:20260324T044518Z
LAST-MODIFIED:20260324T092619Z
UID:11681-1783767600-1783789200@www.tcgmunden1903.at
SUMMARY:Heimspiel Damen 1
DESCRIPTION:Oberliga \nTC Gmunden 1903 1 – ASKÖ Auhof 1 \nBei Regen wird in der Tennishalle gespielt
URL:https://www.tcgmunden1903.at/event/heimspiel-damen-1-4/
LOCATION:TC Gmunden1903\, Dr.Christian Feursteinstr. 10\, Gmunden\, Oberösterreich\, 4810\, Austria
CATEGORIES:Meisterschaft
ORGANIZER;CN="TC Gmunden 1903":MAILTO:office@tcgmunden1903.at
END:VEVENT
BEGIN:VEVENT
DTSTART;TZID=Europe/Vienna:20260717T150000
DTEND;TZID=Europe/Vienna:20260717T170000
DTSTAMP:20260420T102152
CREATED:20260324T050244Z
LAST-MODIFIED:20260324T091333Z
UID:11695-1784300400-1784307600@www.tcgmunden1903.at
SUMMARY:Heimspiel Damen Hobby
DESCRIPTION:Hobbyliga \nTC Gmunden 1903 1 – TC Reindlmühl 1
URL:https://www.tcgmunden1903.at/event/heimspiel-damen-hobby-2/
LOCATION:TC Gmunden1903\, Dr.Christian Feursteinstr. 10\, Gmunden\, Oberösterreich\, 4810\, Austria
CATEGORIES:Meisterschaft
ORGANIZER;CN="TC Gmunden 1903":MAILTO:office@tcgmunden1903.at
END:VEVENT
END:VCALENDAR